BEGIN:VCALENDAR
VERSION:2.0
PRODID:-//Facultad de Comunicación e Información - ECPv6.15.18//NONSGML v1.0//EN
CALSCALE:GREGORIAN
METHOD:PUBLISH
X-WR-CALNAME:Facultad de Comunicación e Información
X-ORIGINAL-URL:https://faci.uprrp.edu
X-WR-CALDESC:Events for Facultad de Comunicación e Información
REFRESH-INTERVAL;VALUE=DURATION:PT1H
X-Robots-Tag:noindex
X-PUBLISHED-TTL:PT1H
BEGIN:VTIMEZONE
TZID:America/Puerto_Rico
BEGIN:STANDARD
TZOFFSETFROM:-0400
TZOFFSETTO:-0400
TZNAME:AST
DTSTART:20250101T000000
END:STANDARD
END:VTIMEZONE
BEGIN:VEVENT
DTSTART;TZID=America/Puerto_Rico:20260421T080000
DTEND;TZID=America/Puerto_Rico:20260514T170000
DTSTAMP:20260424T223759
CREATED:20260120T124506Z
LAST-MODIFIED:20260120T124506Z
UID:15560-1776758400-1778778000@faci.uprrp.edu
SUMMARY:Vence el quinto plazo para pago de prórroga
DESCRIPTION:Ver Calendario Académico: \nCalendarios Académicos
URL:https://faci.uprrp.edu/event/vence-el-quinto-plazo-para-pago-de-prorroga/
CATEGORIES:Calendario Académico
END:VEVENT
BEGIN:VEVENT
DTSTART;VALUE=DATE:20260501
DTEND;VALUE=DATE:20260509
DTSTAMP:20260424T223759
CREATED:20260120T124552Z
LAST-MODIFIED:20260120T124552Z
UID:15562-1777593600-1778284799@faci.uprrp.edu
SUMMARY:Periodo de prematrícula apra Primer Semestre 2026-2027
DESCRIPTION:
URL:https://faci.uprrp.edu/event/periodo-de-prematricula-apra-primer-semestre-2026-2027/
CATEGORIES:Calendario Académico
END:VEVENT
BEGIN:VEVENT
DTSTART;VALUE=DATE:20260502
DTEND;VALUE=DATE:20260503
DTSTAMP:20260424T223759
CREATED:20260120T124622Z
LAST-MODIFIED:20260120T124622Z
UID:15564-1777680000-1777766399@faci.uprrp.edu
SUMMARY:Último día de clases sabatinas
DESCRIPTION:Ver Calendario Académico: \nCalendarios Académicos
URL:https://faci.uprrp.edu/event/ultimo-dia-de-clases-sabatinas-2/
CATEGORIES:Calendario Académico
END:VEVENT
BEGIN:VEVENT
DTSTART;VALUE=DATE:20260508
DTEND;VALUE=DATE:20260509
DTSTAMP:20260424T223759
CREATED:20260120T124655Z
LAST-MODIFIED:20260120T124655Z
UID:15566-1778198400-1778284799@faci.uprrp.edu
SUMMARY:Último día de clases en el recinto
DESCRIPTION:Ver Calendario Académico: \nCalendarios Académicos
URL:https://faci.uprrp.edu/event/ultimo-dia-de-clases-en-el-recinto-2/
CATEGORIES:Calendario Académico
END:VEVENT
BEGIN:VEVENT
DTSTART;VALUE=DATE:20260525
DTEND;VALUE=DATE:20260526
DTSTAMP:20260424T223759
CREATED:20260120T124736Z
LAST-MODIFIED:20260120T124736Z
UID:15568-1779667200-1779753599@faci.uprrp.edu
SUMMARY:Feraido: Día de la Recordación
DESCRIPTION:Ver Calendario Académico: \nCalendarios Académicos
URL:https://faci.uprrp.edu/event/feraido-dia-de-la-recordacion/
CATEGORIES:Calendario Académico
END:VEVENT
END:VCALENDAR